BEGIN:VCALENDAR
VERSION:2.0
PRODID:-//Au Coin Du Dé  - ECPv6.15.20//NONSGML v1.0//EN
CALSCALE:GREGORIAN
METHOD:PUBLISH
X-WR-CALNAME:Au Coin Du Dé 
X-ORIGINAL-URL:https://aucoindude.com
X-WR-CALDESC:Évènements pour Au Coin Du Dé 
REFRESH-INTERVAL;VALUE=DURATION:PT1H
X-Robots-Tag:noindex
X-PUBLISHED-TTL:PT1H
BEGIN:VTIMEZONE
TZID:Europe/Paris
BEGIN:DAYLIGHT
TZOFFSETFROM:+0100
TZOFFSETTO:+0200
TZNAME:CEST
DTSTART:20250330T010000
END:DAYLIGHT
BEGIN:STANDARD
TZOFFSETFROM:+0200
TZOFFSETTO:+0100
TZNAME:CET
DTSTART:20251026T010000
END:STANDARD
BEGIN:DAYLIGHT
TZOFFSETFROM:+0100
TZOFFSETTO:+0200
TZNAME:CEST
DTSTART:20260329T010000
END:DAYLIGHT
BEGIN:STANDARD
TZOFFSETFROM:+0200
TZOFFSETTO:+0100
TZNAME:CET
DTSTART:20261025T010000
END:STANDARD
BEGIN:DAYLIGHT
TZOFFSETFROM:+0100
TZOFFSETTO:+0200
TZNAME:CEST
DTSTART:20270328T010000
END:DAYLIGHT
BEGIN:STANDARD
TZOFFSETFROM:+0200
TZOFFSETTO:+0100
TZNAME:CET
DTSTART:20271031T010000
END:STANDARD
END:VTIMEZONE
BEGIN:VEVENT
DTSTART;TZID=Europe/Paris:20260425T100000
DTEND;TZID=Europe/Paris:20260425T123000
DTSTAMP:20260422T002028
CREATED:20260403T085408Z
LAST-MODIFIED:20260403T085637Z
UID:29441-1777111200-1777120200@aucoindude.com
SUMMARY:Tournoi de ligue Naruto Mythos TCG !
DESCRIPTION:🎲 Salutations les amis ludiques 🎲\n\n\n \n\n\n🚨 Le tournoi de ligue Naruto Mythos est installé chez nous !🚨\n\n\nRetrouvez les habitants de Konoha le samedi 25 Avril à 10h00 à la boutique  pour tournoi construit.\n\nLe prix d’entrée est de 5€ et comprend une carte promo pour tous (et une carte winner pour le premier)\n\n\nInscriptions obligatoire sur le site\, 8 places 💫\n\n\n\nVous avez toutes les infos\, il ne reste plus qu’à foncer ! 😉\n\n\n \n\n\nÀ très bientôt 🧡
URL:https://aucoindude.com/event/tournoi-de-ligue-naruto-mythos-tcg-4/
LOCATION:Au Coin du Dé – Vernon\, 62 Rue Carnot\, Vernon\, 27200\, France
CATEGORIES:Tournoi de ligue
END:VEVENT
BEGIN:VEVENT
DTSTART;TZID=Europe/Paris:20260502T100000
DTEND;TZID=Europe/Paris:20260502T123000
DTSTAMP:20260422T002028
CREATED:20260403T090042Z
LAST-MODIFIED:20260403T090042Z
UID:29444-1777716000-1777725000@aucoindude.com
SUMMARY:Tournoi de ligue Mai Naruto Mythos TCG !
DESCRIPTION:🎲 Salutations les amis ludiques 🎲\n\n\n \n\n\n🚨 Le tournoi de ligue Naruto Mythos est installé sur Top Deck !🚨\n\n\nRetrouvez les habitants de Konoha le samedi 02 Mai à 10h00 sur l’évènement Top deck Espace philippe Auguste pour un tournoi construit.\n\nLe prix d’entrée est de 5€ et comprend une carte promo pour tous (et une carte winner pour le premier)\n\n\nInscriptions obligatoire sur le site\, 8 places 💫\n\n\n\nVous avez toutes les infos\, il ne reste plus qu’à foncer ! 😉\n\n\n \n\n\nÀ très bientôt 🧡
URL:https://aucoindude.com/event/tournoi-de-ligue-mai-naruto-mythos-tcg/
LOCATION:Au Coin du Dé – Vernon\, 62 Rue Carnot\, Vernon\, 27200\, France
CATEGORIES:Tournoi de ligue
END:VEVENT
BEGIN:VEVENT
DTSTART;TZID=Europe/Paris:20260516T100000
DTEND;TZID=Europe/Paris:20260516T123000
DTSTAMP:20260422T002028
CREATED:20260403T090405Z
LAST-MODIFIED:20260403T090405Z
UID:29447-1778925600-1778934600@aucoindude.com
SUMMARY:Tournoi de ligue Mai Naruto Mythos TCG !
DESCRIPTION:🎲 Salutations les amis ludiques 🎲\n\n\n \n\n\n🚨 Le tournoi de ligue Naruto Mythos est installé chez nous !🚨\n\n\nRetrouvez les habitants de Konoha le samedi 16 Mai à 10h00 à la boutique  pour un tournoi construit.\n\nLe prix d’entrée est de 5€ et comprend une carte promo pour tous (et une carte winner pour le premier)\n\n\nInscriptions obligatoire sur le site\, 8 places 💫\n\n\n\nVous avez toutes les infos\, il ne reste plus qu’à foncer ! 😉\n\n\n \n\n\nÀ très bientôt 🧡
URL:https://aucoindude.com/event/tournoi-de-ligue-mai-naruto-mythos-tcg-2/
LOCATION:Au Coin du Dé – Vernon\, 62 Rue Carnot\, Vernon\, 27200\, France
CATEGORIES:Tournoi de ligue
END:VEVENT
BEGIN:VEVENT
DTSTART;TZID=Europe/Paris:20260523T100000
DTEND;TZID=Europe/Paris:20260523T123000
DTSTAMP:20260422T002028
CREATED:20260403T090519Z
LAST-MODIFIED:20260403T090638Z
UID:29450-1779530400-1779539400@aucoindude.com
SUMMARY:Tournoi de ligue Mai Naruto Mythos TCG !
DESCRIPTION:🎲 Salutations les amis ludiques 🎲\n\n\n \n\n\n🚨 Le tournoi de ligue Naruto Mythos est installé chez nous !🚨\n\n\nRetrouvez les habitants de Konoha le samedi 23 Mai à 10h00 à la boutique  pour un tournoi construit.\n\nLe prix d’entrée est de 5€ et comprend une carte promo pour tous (et une carte winner pour le premier)\n\n\nInscriptions obligatoire sur le site\, 8 places 💫\n\n\n\nVous avez toutes les infos\, il ne reste plus qu’à foncer ! 😉\n\n\n \n\n\nÀ très bientôt 🧡
URL:https://aucoindude.com/event/tournoi-de-ligue-mai-naruto-mythos-tcg-3/
LOCATION:Au Coin du Dé – Vernon\, 62 Rue Carnot\, Vernon\, 27200\, France
CATEGORIES:Tournoi de ligue
END:VEVENT
BEGIN:VEVENT
DTSTART;TZID=Europe/Paris:20260530T100000
DTEND;TZID=Europe/Paris:20260530T123000
DTSTAMP:20260422T002028
CREATED:20260403T090758Z
LAST-MODIFIED:20260403T090758Z
UID:29453-1780135200-1780144200@aucoindude.com
SUMMARY:Tournoi de ligue Mai Naruto Mythos TCG !
DESCRIPTION:🎲 Salutations les amis ludiques 🎲\n\n\n \n\n\n🚨 Le tournoi de ligue Naruto Mythos est installé chez nous !🚨\n\n\nRetrouvez les habitants de Konoha le samedi 30 Mai à 10h00 à la boutique  pour un tournoi construit.\n\nLe prix d’entrée est de 5€ et comprend une carte promo pour tous (et une carte winner pour le premier)\n\n\nInscriptions obligatoire sur le site\, 8 places 💫\n\n\n\nVous avez toutes les infos\, il ne reste plus qu’à foncer ! 😉\n\n\n \n\n\nÀ très bientôt 🧡
URL:https://aucoindude.com/event/tournoi-de-ligue-mai-naruto-mythos-tcg-4/
LOCATION:Au Coin du Dé – Vernon\, 62 Rue Carnot\, Vernon\, 27200\, France
CATEGORIES:Tournoi de ligue
END:VEVENT
END:VCALENDAR